BEGIN:VCALENDAR
VERSION:2.0
PRODID:-//hacksw/handcal//NONSGML v1.0//EN
CALSCALE:GREGORIAN
BEGIN:VEVENT
DTEND:20260805T000000Z
DTSTART:20260804T220000Z
LOCATION:\, \, 
SUMMARY:Brosie
DTSTAMP:20260425T173004Z
UID:69ecfa1cbae04
END:VEVENT
END:VCALENDAR