BEGIN:VCALENDAR
VERSION:2.0
PRODID:-//hacksw/handcal//NONSGML v1.0//EN
CALSCALE:GREGORIAN
BEGIN:VEVENT
DTEND:20260730T193000Z
DTSTART:20260730T173000Z
LOCATION:\, \, 
SUMMARY:Roger G.
DTSTAMP:20260424T125607Z
UID:69eb68679dc44
END:VEVENT
END:VCALENDAR