BEGIN:VCALENDAR
VERSION:2.0
PRODID:-//hacksw/handcal//NONSGML v1.0//EN
CALSCALE:GREGORIAN
BEGIN:VEVENT
DTEND:20260812T193000Z
DTSTART:20260812T173000Z
LOCATION:\, \, 
SUMMARY:Anti Alles
DTSTAMP:20260424T130019Z
UID:69eb6963628e3
END:VEVENT
END:VCALENDAR