BEGIN:VCALENDAR
VERSION:2.0
PRODID:-//hacksw/handcal//NONSGML v1.0//EN
CALSCALE:GREGORIAN
BEGIN:VEVENT
DTEND:20261010T200000Z
DTSTART:20261010T180000Z
LOCATION:\, \, 
SUMMARY:Luca Vasta
DTSTAMP:20260421T123523Z
UID:69e76f0bdc443
END:VEVENT
END:VCALENDAR