BEGIN:VCALENDAR
VERSION:2.0
PRODID:-//hacksw/handcal//NONSGML v1.0//EN
CALSCALE:GREGORIAN
BEGIN:VEVENT
DTEND:20261119T210000Z
DTSTART:20261119T190000Z
LOCATION:\, \, 
SUMMARY:Ella Stern
DTSTAMP:20260421T103821Z
UID:69e7539de635f
END:VEVENT
END:VCALENDAR