BEGIN:VCALENDAR
VERSION:2.0
PRODID:-//hacksw/handcal//NONSGML v1.0//EN
CALSCALE:GREGORIAN
BEGIN:VEVENT
DTEND:20260807T200000Z
DTSTART:20260807T180000Z
LOCATION:\, \, 
SUMMARY:Marlo Grosshardt Bergfunk Open Air
DTSTAMP:20260422T142218Z
UID:69e8d99a2c9f1
END:VEVENT
END:VCALENDAR