BEGIN:VCALENDAR
VERSION:2.0
PRODID:-//hacksw/handcal//NONSGML v1.0//EN
CALSCALE:GREGORIAN
BEGIN:VEVENT
DTEND:20260716T200000Z
DTSTART:20260716T180000Z
LOCATION:\, \, 
SUMMARY:Marlo Grosshardt
DTSTAMP:20260422T140207Z
UID:69e8d4df35b8b
END:VEVENT
END:VCALENDAR