BEGIN:VCALENDAR
VERSION:2.0
PRODID:-//hacksw/handcal//NONSGML v1.0//EN
CALSCALE:GREGORIAN
BEGIN:VEVENT
DTEND:20260528T000000Z
DTSTART:20260527T220000Z
LOCATION:\, \, 
SUMMARY:Wilhelmine Support
DTSTAMP:20260422T160404Z
UID:69e8f174aa2ff
END:VEVENT
END:VCALENDAR