BEGIN:VCALENDAR
VERSION:2.0
PRODID:-//hacksw/handcal//NONSGML v1.0//EN
CALSCALE:GREGORIAN
BEGIN:VEVENT
DTEND:20261121T210000Z
DTSTART:20261121T190000Z
LOCATION:\, \, 
SUMMARY:Billie Bird
DTSTAMP:20260425T190409Z
UID:69ed1029436d5
END:VEVENT
END:VCALENDAR