BEGIN:VCALENDAR
VERSION:2.0
PRODID:-//hacksw/handcal//NONSGML v1.0//EN
CALSCALE:GREGORIAN
BEGIN:VEVENT
DTEND:20260918T200000Z
DTSTART:20260918T180000Z
LOCATION:\, \, 
SUMMARY:Marlo Grosshadt
DTSTAMP:20260422T140207Z
UID:69e8d4df9cea9
END:VEVENT
END:VCALENDAR